BEGIN:VCALENDAR
VERSION:2.0
CALSCALE:GREGORIAN
METHOD:PUBLISH
PRODID://GLCH//480502
BEGIN:VEVENT
DTSTAMP:20260423T043302
VTIMEZONE:America/New_York
DTSTART:20260807T120000Z
DTEND:20260807T200000Z
UID:480502
SUMMARY:CHAMBER EVENT: $1000 Golf Scramble
LOCATION:Centennial Acres Golf Course, 12485 Dow Road, Sunfield, MI, 48890
DESCRIPTION:CHAMBER EVENT: $1000 Golf Scramble\n\n08/07/26 08:00 AM EST\n - 08/07/26 04:00 PM EST\Description:\n8:00 AM - Registration opens\n\n8:15 AM - Putting Contest starts\n\n10:00 AM - Shotgun Start at 10:00 AM\n\nGolf includes 18 holes of golf with cart, breakfast, lunch, and beer\n\n50/50 Raffle available at the golf outing\n\n$1000 CASH PRIZES!\n• $250 - All Men’s Team\n• $250 - All Women’s Team\n• $250 - Mixed Team\n• $250 - Drawing\nHole-in-One Contests, Putting Contest PLUS Door Prizes and 50-50!\n\nEarly Bird Special through July 27:\n\n\n	$75 per person or $300 per team\n	$100 for Skins, Strings, and Mulligans (Purchase Online)\n\n\nRegular Registration beginning on July 28:\n\n\n	$85 per person or $340 per team\n	$125 for Skins, Strings, and Mulligans (Purchase Online - no sales after scramble starts)\n\n\nNo Foursome? No Problem! Register and we'll put you on the best team!\nIf you have any questions, please contact:\n\n\n	Tammy Beson | tbeson13@gmail.com | (517) 712-5339\n	Dale Bennett | rogerdalebennett@yahoo.com | (517) 930-4237\n\n\nProceeds from all Chamber events are allocated to promoting the Grand Ledge community and its members.\n\Location:\nCentennial Acres Golf Course\n12485 Dow Road\nSunfield, MI 48890
X-ALT-DESC;FMTTYPE=text/html:CHAMBER EVENT: $1000 Golf Scramble<br /><br />08/07/26 08:00 AM EST - 08/07/26 04:00 PM EST<br />Description:<br /><p>8:00 AM - Registration opens</p>

<p>8:15 AM - Putting Contest starts</p>

<p>10:00 AM - Shotgun Start at 10:00 AM</p>

<p>Golf includes 18 holes of golf with cart, breakfast, lunch, and beer</p>

<p>50/50 Raffle available at the golf outing</p>

<p><strong>$1000 CASH PRIZES!</strong><br />
&bull; $250 - All Men&rsquo;s Team<br />
&bull; $250 - All Women&rsquo;s Team<br />
&bull; $250 - Mixed Team<br />
&bull; $250 - Drawing<br />
Hole-in-One Contests, Putting Contest&nbsp;PLUS&nbsp;Door Prizes and 50-50!</p>

<p>Early Bird Special through July 27:</p>

<ul>
	<li>$75 per person or $300&nbsp;per team</li>
	<li>$100 for Skins, Strings, and Mulligans (Purchase Online)</li>
</ul>

<p>Regular Registration beginning on July 28:</p>

<ul>
	<li>$85&nbsp;per person or $340&nbsp;per team</li>
	<li>$125 for Skins, Strings, and Mulligans&nbsp;(Purchase Online&nbsp;- no sales after scramble starts)</li>
</ul>

<p>No Foursome? No Problem! Register and we'll put you on the best team!</p>
If you have any questions, please contact:

<ul>
	<li>Tammy Beson |&nbsp;<a href="mailto:tbeson13@gmail.com?subject=Chamber%20%241000%20Scramble">tbeson13@gmail.com</a>&nbsp;| (517) 712-5339</li>
	<li>Dale Bennett |&nbsp;<a href="mailto:rogerdalebennett@yahoo.com?subject=Chamber's%20%241%2C000%20Golf%20Scramble">rogerdalebennett@yahoo.com</a>&nbsp;| (517) 930-4237</li>
</ul>

<p>Proceeds from all Chamber events are allocated to promoting the Grand Ledge community and its members.</p>
<br />Location:<br />Centennial Acres Golf Course<br />12485 Dow Road<br />Sunfield, MI 48890
PRIORITY:3
TRANSP:TRANSPARENT
BEGIN:VALARM
TRIGGER:-PT5M
ACTION:DISPLAY
DESCRIPTION:Reminder
END:VALARM
END:VEVENT
END:VCALENDAR
