BEGIN:VCALENDAR
VERSION:2.0
CALSCALE:GREGORIAN
METHOD:PUBLISH
PRODID://GLCH//480494
BEGIN:VEVENT
DTSTAMP:20260423T042717
VTIMEZONE:America/New_York
DTSTART:20260625T230000Z
DTEND:20260626T010000Z
UID:480494
SUMMARY:CHAMBER EVENT: Music in the Park
LOCATION:Jaycee Park, 525 River St., Grand Ledge, MI, 48837
DESCRIPTION:CHAMBER EVENT: Music in the Park\n\n06/25/26 07:00 PM EST\n - 06/25/26 09:00 PM EST\Description:\nThursdays, June 18 - August 13, 2026\n7:00 - 9:00 pm\n\nMusic in the Park is a great way to bring the community together and enjoy some local talent on the Rotary Club stage. Bring your friends and a lawn chair or blanket. There will be food concessions available onsite.\n\Location:\nJaycee Park\n525 River St.\nGrand Ledge, MI 48837
X-ALT-DESC;FMTTYPE=text/html:CHAMBER EVENT: Music in the Park<br /><br />06/25/26 07:00 PM EST - 06/25/26 09:00 PM EST<br />Description:<br /><p>Thursdays, June 18 - August 13, 2026<br />
7:00 - 9:00 pm</p>

<p>Music in the Park is a great way to bring the community together and enjoy some local talent on the Rotary Club stage.&nbsp;Bring your friends and a lawn chair or blanket. There will be food concessions available onsite.</p>
<br />Location:<br />Jaycee Park<br />525 River St.<br />Grand Ledge, MI 48837
PRIORITY:3
TRANSP:TRANSPARENT
BEGIN:VALARM
TRIGGER:-PT5M
ACTION:DISPLAY
DESCRIPTION:Reminder
END:VALARM
END:VEVENT
END:VCALENDAR
