BEGIN:VCALENDAR
VERSION:2.0
CALSCALE:GREGORIAN
METHOD:PUBLISH
PRODID://GLCH//480480
BEGIN:VEVENT
DTSTAMP:20260423T055306
VTIMEZONE:America/New_York
DTSTART:20260718T130000Z
DTEND:20260718T170000Z
UID:480480
SUMMARY:CHAMBER EVENT: Market on the Grand
LOCATION:Jaycee Park, 525 River St., Grand Ledge, MI, 48837
DESCRIPTION:CHAMBER EVENT: Market on the Grand\n\n07/18/26 09:00 AM EST\n - 07/18/26 01:00 PM EST\Description:\nSaturdays, June 6 - September 26, 2026 (Yankee Doodle Day - Saturday, June 13)\n\nA great place for farmers and artisans to sell their products directly to the community as well as food truck vendors who can provide tasty local foods.\n\nThe market is intended to foster local economic development and encourage business in Grand Ledge. The markets purpose is to also bring local produce and other locally produced goods to the people of Grand Ledge. Items include fresh local produce, homemade baked goods, handcrafted products, plants, honey, maple syrup, smoked fish, flowers, and other locally produced goods.\n\nThroughout the summer, we will also have entertainment on the Rotary Club stage during the market and food trucks.\n\nIf you have want to be a part of our entertainment or have questions about being a vendor, please contact the Chamber at info@grandledgechamber.com.\n\Location:\nJaycee Park\n525 River St.\nGrand Ledge, MI 48837
X-ALT-DESC;FMTTYPE=text/html:CHAMBER EVENT: Market on the Grand<br /><br />07/18/26 09:00 AM EST - 07/18/26 01:00 PM EST<br />Description:<br /><p>Saturdays, June 6&nbsp;- September 26, 2026 (Yankee Doodle Day - Saturday, June 13)<br />
<br />
A great place for farmers and artisans to sell their products directly to the community as well as food truck vendors who can provide tasty local foods.</p>

<p>The market is intended to foster local economic development and encourage business in Grand Ledge. The markets purpose is to also bring local produce and other locally produced goods to the people of Grand Ledge. Items include fresh local produce, homemade baked goods, handcrafted products, plants, honey, maple syrup, smoked fish, flowers, and other locally produced goods.</p>

<p>Throughout the summer, we will also have entertainment on the Rotary Club stage during the market and food trucks.</p>

<p>If you have want to be a part of our entertainment or have questions about&nbsp;being a vendor, please contact the Chamber at&nbsp;<a href="mailto:info@grandledgechamber.com?subject=Market%20on%20the%20Grand">info@grandledgechamber.com</a>.</p>
<br />Location:<br />Jaycee Park<br />525 River St.<br />Grand Ledge, MI 48837
PRIORITY:3
TRANSP:TRANSPARENT
BEGIN:VALARM
TRIGGER:-PT5M
ACTION:DISPLAY
DESCRIPTION:Reminder
END:VALARM
END:VEVENT
END:VCALENDAR
