BEGIN:VCALENDAR
VERSION:2.0
CALSCALE:GREGORIAN
METHOD:PUBLISH
PRODID://GLCH//480283
BEGIN:VEVENT
DTSTAMP:20260423T030619
VTIMEZONE:America/New_York
DTSTART:20261015T210000Z
DTEND:20261015T230000Z
UID:480283
SUMMARY:CHAMBER EVENT: Mix & Mingle Networking Event
LOCATION:, Grand Ledge, MI, 48837
DESCRIPTION:CHAMBER EVENT: Mix & Mingle Networking Event\n\n10/15/26 05:00 PM EST\n - 10/15/26 07:00 PM EST\Description:\nOur Chamber members will host Mix & Mingle networking events on the third Thursday of the month from 5:00 - 7:00 PM to give the Chamber Board an opportunity to meet with Chamber members and local residents who are interested in helping the Chamber build a stronger community.\n\nPlease visit our website to see which Chamber member is hosting each event.\Location:\n\n\nGrand Ledge, MI 48837
X-ALT-DESC;FMTTYPE=text/html:CHAMBER EVENT: Mix & Mingle Networking Event<br /><br />10/15/26 05:00 PM EST - 10/15/26 07:00 PM EST<br />Description:<br />Our Chamber members will host Mix &amp; Mingle networking events on the third Thursday of the month from 5:00 - 7:00 PM to give the Chamber Board an opportunity to meet with Chamber members and local residents who are interested in&nbsp;helping the Chamber build a stronger community.<br />
<br />
Please <a href="https://www.grandledgechamber.com/mix_mingle_networking_events.php">visit our website</a> to see which Chamber member is hosting each event.<br />Location:<br /><br /><br />Grand Ledge, MI 48837
PRIORITY:3
TRANSP:TRANSPARENT
BEGIN:VALARM
TRIGGER:-PT5M
ACTION:DISPLAY
DESCRIPTION:Reminder
END:VALARM
END:VEVENT
END:VCALENDAR
