BEGIN:VCALENDAR
VERSION:2.0
CALSCALE:GREGORIAN
METHOD:PUBLISH
PRODID://GLCH//456834
BEGIN:VEVENT
DTSTAMP:20260423T085215
VTIMEZONE:America/New_York
DTSTART:20251016T200000Z
DTEND:20251016T213000Z
UID:456834
SUMMARY:Crafting for a Cause
LOCATION:Grand Ledge Area District Library, 131 E. Jefferson St., Grand Ledge, MI, 48837
DESCRIPTION:Crafting for a Cause\n\n10/16/25 04:00 PM EST\n - 10/16/25 05:30 PM EST\Description:\n1st & 3rd Thursdays. A casual, friendly group that serves the community with hand-made projects. Craft with us and use your yarn stash to benefit others!\Details:\n1st & 3rd Thursdays. A casual, friendly group that serves the community with hand-made projects. Craft with us and use your yarn stash to benefit others!\Location:\nGrand Ledge Area District Library\n131 E. Jefferson St.\nGrand Ledge, MI 48837
X-ALT-DESC;FMTTYPE=text/html:Crafting for a Cause<br /><br />10/16/25 04:00 PM EST - 10/16/25 05:30 PM EST<br />Description:<br /><strong>1st &amp; 3rd Thursdays.</strong> A casual, friendly group that serves the community with hand-made projects. Craft with us and use your yarn stash to benefit others!<br />Details:<br /><strong>1st &amp; 3rd Thursdays.</strong> A casual, friendly group that serves the community with hand-made projects. Craft with us and use your yarn stash to benefit others!<br />Location:<br />Grand Ledge Area District Library<br />131 E. Jefferson St.<br />Grand Ledge, MI 48837
PRIORITY:3
TRANSP:TRANSPARENT
BEGIN:VALARM
TRIGGER:-PT5M
ACTION:DISPLAY
DESCRIPTION:Reminder
END:VALARM
END:VEVENT
END:VCALENDAR
