BEGIN:VCALENDAR
VERSION:2.0
CALSCALE:GREGORIAN
METHOD:PUBLISH
PRODID://GLCH//450229
BEGIN:VEVENT
DTSTAMP:20260423T072647
VTIMEZONE:America/New_York
DTSTART:20250909T150000Z
DTEND:20250909T160000Z
UID:450229
SUMMARY:Preschool Family Storytime
LOCATION:Grand Ledge Area District Library, 131 E. Jefferson St., Grand Ledge, MI, 48837
DESCRIPTION:Preschool Family Storytime\n\n09/09/25 11:00 AM EST\n - 09/09/25 12:00 PM EST\Description:\nAges 1 - 6 and Caregivers\nJoin us for fun stories, songs, and a simple craft each week!\n \Details:\nAges 1 - 6 and Caregivers\nJoin us for fun stories, songs, and a simple craft each week!\Location:\nGrand Ledge Area District Library\n131 E. Jefferson St.\nGrand Ledge, MI 48837
X-ALT-DESC;FMTTYPE=text/html:Preschool Family Storytime<br /><br />09/09/25 11:00 AM EST - 09/09/25 12:00 PM EST<br />Description:<br /><strong>Ages 1 - 6 and Caregivers</strong><br />
Join us for fun stories, songs, and a simple craft each week!<br />
&nbsp;<br />Details:<br /><strong>Ages 1 - 6 and Caregivers</strong><br />
Join us for fun stories, songs, and a simple craft each week!<br />Location:<br />Grand Ledge Area District Library<br />131 E. Jefferson St.<br />Grand Ledge, MI 48837
PRIORITY:3
TRANSP:TRANSPARENT
BEGIN:VALARM
TRIGGER:-PT5M
ACTION:DISPLAY
DESCRIPTION:Reminder
END:VALARM
END:VEVENT
END:VCALENDAR
