BEGIN:VCALENDAR
VERSION:2.0
CALSCALE:GREGORIAN
METHOD:PUBLISH
PRODID://GLCH//450216
BEGIN:VEVENT
DTSTAMP:20260423T072908
VTIMEZONE:America/New_York
DTSTART:20250910T220000Z
DTEND:20250910T230000Z
UID:450216
SUMMARY:Code Club!
LOCATION:Grand Ledge Area District Library, 131 E. Jefferson St., Grand Ledge, MI, 48837
DESCRIPTION:Code Club!\n\n09/10/25 06:00 PM EST\n - 09/10/25 07:00 PM EST\Description:\nKids 3rd Grade+ \nA Code Club for all! Learn to make apps, animations, and more! No coding expertise necessary & drop-ins welcome! Find out more at gladl.org/project/learncoding\Details:\nKids 3rd Grade+ \nA Code Club for all! Learn to make apps, animations, and more! No coding expertise necessary & drop-ins welcome! Find out more at gladl.org/project/learncoding\Location:\nGrand Ledge Area District Library\n131 E. Jefferson St.\nGrand Ledge, MI 48837
X-ALT-DESC;FMTTYPE=text/html:Code Club!<br /><br />09/10/25 06:00 PM EST - 09/10/25 07:00 PM EST<br />Description:<br /><strong>Kids 3rd Grade+&nbsp;</strong><br />
A Code Club for all! Learn to make apps, animations, and more! No coding expertise necessary &amp; drop-ins welcome! Find out more at gladl.org/project/learncoding<br />Details:<br /><strong>Kids 3rd Grade+&nbsp;</strong><br />
A Code Club for all! Learn to make apps, animations, and more! No coding expertise necessary &amp; drop-ins welcome! Find out more at gladl.org/project/learncoding<br />Location:<br />Grand Ledge Area District Library<br />131 E. Jefferson St.<br />Grand Ledge, MI 48837
PRIORITY:3
TRANSP:TRANSPARENT
BEGIN:VALARM
TRIGGER:-PT5M
ACTION:DISPLAY
DESCRIPTION:Reminder
END:VALARM
END:VEVENT
END:VCALENDAR
